BEGIN:VCALENDAR
VERSION:2.0
PRODID:-//Downtown in December - ECPv6.15.20//NONSGML v1.0//EN
CALSCALE:GREGORIAN
METHOD:PUBLISH
X-WR-CALNAME:Downtown in December
X-ORIGINAL-URL:https://downtownindecember.com
X-WR-CALDESC:Events for Downtown in December
REFRESH-INTERVAL;VALUE=DURATION:PT1H
X-Robots-Tag:noindex
X-PUBLISHED-TTL:PT1H
BEGIN:VTIMEZONE
TZID:UTC
BEGIN:STANDARD
TZOFFSETFROM:+0000
TZOFFSETTO:+0000
TZNAME:UTC
DTSTART:20180101T000000
END:STANDARD
END:VTIMEZONE
BEGIN:VEVENT
DTSTART;TZID=UTC:20191112T150000
DTEND;TZID=UTC:20191112T210000
DTSTAMP:20260424T153036
CREATED:20191101T231338Z
LAST-MODIFIED:20191112T214534Z
UID:188-1573570800-1573592400@downtownindecember.com
SUMMARY:Devon Ice Rink
DESCRIPTION:The Devon Ice Rink returns for its 9th season in the Myriad Botanical Gardens in 2019. Join us for another great winter of outdoor ice skating at Downtown in December’s premier attraction. Open 7 days a week from beginning November 8\, the Devon Ice Rink hosts daily public skating\, private parties\, and special events all winter long. The ice rink will be open through February 2. \nRates:\n$13 per person for all ages (includes skates). $8 for guests who bring their own skates. Myriad Garden Members skate for $7 (includes skates). Group rate (10 or more guests) is $9 and includes skates. Advanced reservations required for groups. Private parties available. \nRegular Hours: November 8 – February 2\, 2020\nMonday – Thursday\, 3pm – 9pm\nFriday\, 3pm – 11pm\nSaturday\, 11am – 11pm\nSunday\, 11am – 7pm \nLearn to Curl – $20 for Myriad Gardens Members\, $25 Non-members \n\nNovember 23\nDecember 7\nDecember 21\nJanuary 4\nJanuary 18\n\nHoliday Hours:\nThanksgiving \n\nNovember 28\, 3pm – 9pm\nNovember 29\, 11am – 11pm\n\nChristmas Break \n\nDecember 16 –  January 3\, 11am – 11pm\nSundays\, 11am – 7pm\n\nChristmas Eve \n\nDecember 24\, 12pm – 6pm\n\nChristmas Day \n\nDecember 25\, 12pm – 6pm\n\nMartin Luther King\, Jr. Day \n\nJanuary 20\, 11am – 9pm
URL:https://downtownindecember.com/event/devon-ice-rink-5/
LOCATION:Myriad Botanical Gardens\, 301 W Reno Ave\, Oklahoma City\, OK\, 73103\, United States
CATEGORIES:City Center,Downtown,Downtown In December,Seasonal & Holiday,Skating
ATTACH;FMTTYPE=image/jpeg:https://downtownindecember.com/wp-content/uploads/2019/11/Ice-Rink-Resized-for-Web.jpg
END:VEVENT
BEGIN:VEVENT
DTSTART;TZID=UTC:20191111T150000
DTEND;TZID=UTC:20191111T210000
DTSTAMP:20260424T153036
CREATED:20191101T231338Z
LAST-MODIFIED:20191111T214800Z
UID:187-1573484400-1573506000@downtownindecember.com
SUMMARY:Devon Ice Rink
DESCRIPTION:The Devon Ice Rink returns for its 9th season in the Myriad Botanical Gardens in 2019. Join us for another great winter of outdoor ice skating at Downtown in December’s premier attraction. Open 7 days a week from beginning November 8\, the Devon Ice Rink hosts daily public skating\, private parties\, and special events all winter long. The ice rink will be open through February 2. \nRates:\n$13 per person for all ages (includes skates). $8 for guests who bring their own skates. Myriad Garden Members skate for $7 (includes skates). Group rate (10 or more guests) is $9 and includes skates. Advanced reservations required for groups. Private parties available. \nRegular Hours: November 8 – February 2\, 2020\nMonday – Thursday\, 3pm – 9pm\nFriday\, 3pm – 11pm\nSaturday\, 11am – 11pm\nSunday\, 11am – 7pm \nLearn to Curl – $20 for Myriad Gardens Members\, $25 Non-members \n\nNovember 23\nDecember 7\nDecember 21\nJanuary 4\nJanuary 18\n\nHoliday Hours:\nThanksgiving \n\nNovember 28\, 3pm – 9pm\nNovember 29\, 11am – 11pm\n\nChristmas Break \n\nDecember 16 –  January 3\, 11am – 11pm\nSundays\, 11am – 7pm\n\nChristmas Eve \n\nDecember 24\, 12pm – 6pm\n\nChristmas Day \n\nDecember 25\, 12pm – 6pm\n\nMartin Luther King\, Jr. Day \n\nJanuary 20\, 11am – 9pm
URL:https://downtownindecember.com/event/devon-ice-rink-4/
LOCATION:Myriad Botanical Gardens\, 301 W Reno Ave\, Oklahoma City\, OK\, 73103\, United States
CATEGORIES:City Center,Downtown,Downtown In December,Seasonal & Holiday,Skating
ATTACH;FMTTYPE=image/jpeg:https://downtownindecember.com/wp-content/uploads/2019/11/Ice-Rink-Resized-for-Web.jpg
END:VEVENT
BEGIN:VEVENT
DTSTART;TZID=UTC:20191110T110000
DTEND;TZID=UTC:20191110T190000
DTSTAMP:20260424T153036
CREATED:20191101T231337Z
LAST-MODIFIED:20191110T214637Z
UID:186-1573383600-1573412400@downtownindecember.com
SUMMARY:Devon Ice Rink
DESCRIPTION:The Devon Ice Rink returns for its 9th season in the Myriad Botanical Gardens in 2019. Join us for another great winter of outdoor ice skating at Downtown in December’s premier attraction. Open 7 days a week from beginning November 8\, the Devon Ice Rink hosts daily public skating\, private parties\, and special events all winter long. The ice rink will be open through February 2. \nRates:\n$13 per person for all ages (includes skates). $8 for guests who bring their own skates. Myriad Garden Members skate for $7 (includes skates). Group rate (10 or more guests) is $9 and includes skates. Advanced reservations required for groups. Private parties available. \nRegular Hours: November 8 – February 2\, 2020\nMonday – Thursday\, 3pm – 9pm\nFriday\, 3pm – 11pm\nSaturday\, 11am – 11pm\nSunday\, 11am – 7pm \nLearn to Curl – $20 for Myriad Gardens Members\, $25 Non-members \n\nNovember 23\nDecember 7\nDecember 21\nJanuary 4\nJanuary 18\n\nHoliday Hours:\nThanksgiving \n\nNovember 28\, 3pm – 9pm\nNovember 29\, 11am – 11pm\n\nChristmas Break \n\nDecember 16 –  January 3\, 11am – 11pm\nSundays\, 11am – 7pm\n\nChristmas Eve \n\nDecember 24\, 12pm – 6pm\n\nChristmas Day \n\nDecember 25\, 12pm – 6pm\n\nMartin Luther King\, Jr. Day \n\nJanuary 20\, 11am – 9pm
URL:https://downtownindecember.com/event/devon-ice-rink-3/
LOCATION:Myriad Botanical Gardens\, 301 W Reno Ave\, Oklahoma City\, OK\, 73103\, United States
CATEGORIES:City Center,Downtown,Downtown In December,Seasonal & Holiday,Skating
ATTACH;FMTTYPE=image/jpeg:https://downtownindecember.com/wp-content/uploads/2019/11/Ice-Rink-Resized-for-Web.jpg
END:VEVENT
BEGIN:VEVENT
DTSTART;TZID=UTC:20191110T090000
DTEND;TZID=UTC:20191110T170000
DTSTAMP:20260424T153036
CREATED:20191031T040517Z
LAST-MODIFIED:20191110T214637Z
UID:115-1573376400-1573405200@downtownindecember.com
SUMMARY:Mistletoe Market
DESCRIPTION:Mistletoe Market \nCox Convention Center\nbenefiting the Junior League of Oklahoma City \nMistletoe Market is Oklahoma City’s premier shopping event featuring unique merchandise from more than 100 carefully selected vendors from Oklahoma and across the country. Shop for clothing\, gourmet foods\, gifts\, children’s items\, jewelry and more – we promise you’ll find everything you need and more!\n\nMistletoe Market raises funds to support the mission of the Junior League of Oklahoma City. Proceeds from Mistletoe Market go to fund the Junior League of Oklahoma City’s health-based community projects in the Oklahoma City metro and helps the Junior League send trained volunteers into the community.\n\n\nGeneral Market Shopping Days\nFriday\, November 8\, 2019: 9 am–8 pm\nSaturday\, November 9\, 2019: 9 am–8 pm\nSunday\, November 10\, 2019: 9 am–5 pm \nFor more information\, visit www.jloc.org/mistletoe-market/.
URL:https://downtownindecember.com/event/mistletoe-market-3/
LOCATION:Cox Convention Center\, 1 Myriad Gdns\, Oklahoma City\, OK\, 73102\, United States
CATEGORIES:City Center,Downtown In December,Downtown Okc
END:VEVENT
BEGIN:VEVENT
DTSTART;TZID=UTC:20191109T110000
DTEND;TZID=UTC:20191109T230000
DTSTAMP:20260424T153036
CREATED:20191101T231337Z
LAST-MODIFIED:20191109T214512Z
UID:185-1573297200-1573340400@downtownindecember.com
SUMMARY:Devon Ice Rink
DESCRIPTION:The Devon Ice Rink returns for its 9th season in the Myriad Botanical Gardens in 2019. Join us for another great winter of outdoor ice skating at Downtown in December’s premier attraction. Open 7 days a week from beginning November 8\, the Devon Ice Rink hosts daily public skating\, private parties\, and special events all winter long. The ice rink will be open through February 2. \nRates:\n$13 per person for all ages (includes skates). $8 for guests who bring their own skates. Myriad Garden Members skate for $7 (includes skates). Group rate (10 or more guests) is $9 and includes skates. Advanced reservations required for groups. Private parties available. \nRegular Hours: November 8 – February 2\, 2020\nMonday – Thursday\, 3pm – 9pm\nFriday\, 3pm – 11pm\nSaturday\, 11am – 11pm\nSunday\, 11am – 7pm \nLearn to Curl – $20 for Myriad Gardens Members\, $25 Non-members \n\nNovember 23\nDecember 7\nDecember 21\nJanuary 4\nJanuary 18\n\nHoliday Hours:\nThanksgiving \n\nNovember 28\, 3pm – 9pm\nNovember 29\, 11am – 11pm\n\nChristmas Break \n\nDecember 16 –  January 3\, 11am – 11pm\nSundays\, 11am – 7pm\n\nChristmas Eve \n\nDecember 24\, 12pm – 6pm\n\nChristmas Day \n\nDecember 25\, 12pm – 6pm\n\nMartin Luther King\, Jr. Day \n\nJanuary 20\, 11am – 9pm
URL:https://downtownindecember.com/event/devon-ice-rink-2/
LOCATION:Myriad Botanical Gardens\, 301 W Reno Ave\, Oklahoma City\, OK\, 73103\, United States
CATEGORIES:City Center,Downtown,Downtown In December,Seasonal & Holiday,Skating
ATTACH;FMTTYPE=image/jpeg:https://downtownindecember.com/wp-content/uploads/2019/11/Ice-Rink-Resized-for-Web.jpg
END:VEVENT
BEGIN:VEVENT
DTSTART;TZID=UTC:20191109T090000
DTEND;TZID=UTC:20191109T200000
DTSTAMP:20260424T153036
CREATED:20191031T040517Z
LAST-MODIFIED:20191109T214512Z
UID:114-1573290000-1573329600@downtownindecember.com
SUMMARY:Mistletoe Market
DESCRIPTION:Mistletoe Market \nCox Convention Center\nbenefiting the Junior League of Oklahoma City \nMistletoe Market is Oklahoma City’s premier shopping event featuring unique merchandise from more than 100 carefully selected vendors from Oklahoma and across the country. Shop for clothing\, gourmet foods\, gifts\, children’s items\, jewelry and more – we promise you’ll find everything you need and more!\n\nMistletoe Market raises funds to support the mission of the Junior League of Oklahoma City. Proceeds from Mistletoe Market go to fund the Junior League of Oklahoma City’s health-based community projects in the Oklahoma City metro and helps the Junior League send trained volunteers into the community.\n\n\nGeneral Market Shopping Days\nFriday\, November 8\, 2019: 9 am–8 pm\nSaturday\, November 9\, 2019: 9 am–8 pm\nSunday\, November 10\, 2019: 9 am–5 pm \nFor more information\, visit www.jloc.org/mistletoe-market/.
URL:https://downtownindecember.com/event/mistletoe-market-2/
LOCATION:Cox Convention Center\, 1 Myriad Gdns\, Oklahoma City\, OK\, 73102\, United States
CATEGORIES:City Center,Downtown In December,Downtown Okc
END:VEVENT
BEGIN:VEVENT
DTSTART;TZID=UTC:20191108T150000
DTEND;TZID=UTC:20191108T230000
DTSTAMP:20260424T153036
CREATED:20191101T231336Z
LAST-MODIFIED:20191108T214523Z
UID:183-1573225200-1573254000@downtownindecember.com
SUMMARY:Devon Ice Rink
DESCRIPTION:The Devon Ice Rink returns for its 9th season in the Myriad Botanical Gardens in 2019. Join us for another great winter of outdoor ice skating at Downtown in December’s premier attraction. Open 7 days a week from beginning November 8\, the Devon Ice Rink hosts daily public skating\, private parties\, and special events all winter long. The ice rink will be open through February 2. \nRates:\n$13 per person for all ages (includes skates). $8 for guests who bring their own skates. Myriad Garden Members skate for $7 (includes skates). Group rate (10 or more guests) is $9 and includes skates. Advanced reservations required for groups. Private parties available. \nRegular Hours: November 8 – February 2\, 2020\nMonday – Thursday\, 3pm – 9pm\nFriday\, 3pm – 11pm\nSaturday\, 11am – 11pm\nSunday\, 11am – 7pm \nLearn to Curl – $20 for Myriad Gardens Members\, $25 Non-members \n\nNovember 23\nDecember 7\nDecember 21\nJanuary 4\nJanuary 18\n\nHoliday Hours:\nThanksgiving \n\nNovember 28\, 3pm – 9pm\nNovember 29\, 11am – 11pm\n\nChristmas Break \n\nDecember 16 –  January 3\, 11am – 11pm\nSundays\, 11am – 7pm\n\nChristmas Eve \n\nDecember 24\, 12pm – 6pm\n\nChristmas Day \n\nDecember 25\, 12pm – 6pm\n\nMartin Luther King\, Jr. Day \n\nJanuary 20\, 11am – 9pm
URL:https://downtownindecember.com/event/devon-ice-rink/
LOCATION:Myriad Botanical Gardens\, 301 W Reno Ave\, Oklahoma City\, OK\, 73103\, United States
CATEGORIES:City Center,Downtown,Downtown In December,Seasonal & Holiday,Skating
ATTACH;FMTTYPE=image/jpeg:https://downtownindecember.com/wp-content/uploads/2019/11/Ice-Rink-Resized-for-Web.jpg
END:VEVENT
BEGIN:VEVENT
DTSTART;TZID=UTC:20191108T090000
DTEND;TZID=UTC:20191108T200000
DTSTAMP:20260424T153036
CREATED:20191031T040517Z
LAST-MODIFIED:20191108T214523Z
UID:113-1573203600-1573243200@downtownindecember.com
SUMMARY:Mistletoe Market
DESCRIPTION:Mistletoe Market \nCox Convention Center\nbenefiting the Junior League of Oklahoma City \nMistletoe Market is Oklahoma City’s premier shopping event featuring unique merchandise from more than 100 carefully selected vendors from Oklahoma and across the country. Shop for clothing\, gourmet foods\, gifts\, children’s items\, jewelry and more – we promise you’ll find everything you need and more!\n\nMistletoe Market raises funds to support the mission of the Junior League of Oklahoma City. Proceeds from Mistletoe Market go to fund the Junior League of Oklahoma City’s health-based community projects in the Oklahoma City metro and helps the Junior League send trained volunteers into the community.\n\n\nGeneral Market Shopping Days\nFriday\, November 8\, 2019: 9 am–8 pm\nSaturday\, November 9\, 2019: 9 am–8 pm\nSunday\, November 10\, 2019: 9 am–5 pm \nFor more information\, visit www.jloc.org/mistletoe-market/.
URL:https://downtownindecember.com/event/mistletoe-market/
LOCATION:Cox Convention Center\, 1 Myriad Gdns\, Oklahoma City\, OK\, 73102\, United States
CATEGORIES:City Center,Downtown In December,Downtown Okc
END:VEVENT
END:VCALENDAR