BEGIN:VCALENDAR
VERSION:2.0
PRODID:-//Downtown in December - ECPv6.15.20//NONSGML v1.0//EN
CALSCALE:GREGORIAN
METHOD:PUBLISH
X-WR-CALNAME:Downtown in December
X-ORIGINAL-URL:https://downtownindecember.com
X-WR-CALDESC:Events for Downtown in December
REFRESH-INTERVAL;VALUE=DURATION:PT1H
X-Robots-Tag:noindex
X-PUBLISHED-TTL:PT1H
BEGIN:VTIMEZONE
TZID:UTC
BEGIN:STANDARD
TZOFFSETFROM:+0000
TZOFFSETTO:+0000
TZNAME:UTC
DTSTART:20190101T000000
END:STANDARD
END:VTIMEZONE
BEGIN:VEVENT
DTSTART;TZID=UTC:20200118T090000
DTEND;TZID=UTC:20200118T103000
DTSTAMP:20260424T055134
CREATED:20200109T021620Z
LAST-MODIFIED:20200119T024706Z
UID:686-1579338000-1579343400@downtownindecember.com
SUMMARY:Learn To Curl
DESCRIPTION:LEARN TO CURL\nNovember 23 & December 7; 21 & Jan 4; 18\, 9am-10:30am\nDevon Ice Rink at Myriad Gardens\nMembers $20; Nonmembers $25\nBring your family and friends and join Oklahoma Curling Club members as they walk through the etiquette and rules of curling. Dress warm\, wear rubber soled shoes\, and prepare for a fun morning on the ice. All other equipment will be provided. Book now before it sells out! \nRegister here.
URL:https://downtownindecember.com/event/learn-to-curl-5/
LOCATION:Myriad Botanical Gardens\, 301 W Reno Ave\, Oklahoma City\, OK\, 73103\, United States
CATEGORIES:Downtown,Downtown In December,Downtown Okc
END:VEVENT
BEGIN:VEVENT
DTSTART;TZID=UTC:20200118T110000
DTEND;TZID=UTC:20200118T230000
DTSTAMP:20260424T055134
CREATED:20191101T232315Z
LAST-MODIFIED:20200119T024706Z
UID:318-1579345200-1579388400@downtownindecember.com
SUMMARY:Devon Ice Rink
DESCRIPTION:The Devon Ice Rink returns for its 9th season in the Myriad Botanical Gardens in 2019. Join us for another great winter of outdoor ice skating at Downtown in December’s premier attraction. Open 7 days a week from beginning November 8\, the Devon Ice Rink hosts daily public skating\, private parties\, and special events all winter long. The ice rink will be open through February 2. \nRates:\n$13 per person for all ages (includes skates). $8 for guests who bring their own skates. Myriad Garden Members skate for $7 (includes skates). Group rate (10 or more guests) is $9 and includes skates. Advanced reservations required for groups. Private parties available. \nRegular Hours: November 8 – February 2\, 2020\nMonday – Thursday\, 3pm – 9pm\nFriday\, 3pm – 11pm\nSaturday\, 11am – 11pm\nSunday\, 11am – 7pm \nLearn to Curl – $20 for Myriad Gardens Members\, $25 Non-members \n\nNovember 23\nDecember 7\nDecember 21\nJanuary 4\nJanuary 18\n\nHoliday Hours:\nThanksgiving \n\nNovember 28\, 3pm – 9pm\nNovember 29\, 11am – 11pm\n\nChristmas Break \n\nDecember 16 –  January 3\, 11am – 11pm\nSundays\, 11am – 7pm\n\nChristmas Eve \n\nDecember 24\, 12pm – 6pm\n\nChristmas Day \n\nDecember 25\, 12pm – 6pm\n\nMartin Luther King\, Jr. Day \n\nJanuary 20\, 11am – 9pm
URL:https://downtownindecember.com/event/devon-ice-rink-63/
LOCATION:Myriad Botanical Gardens\, 301 W Reno Ave\, Oklahoma City\, OK\, 73103\, United States
CATEGORIES:City Center,Downtown,Downtown In December,Seasonal & Holiday,Skating
ATTACH;FMTTYPE=image/jpeg:https://downtownindecember.com/wp-content/uploads/2019/11/Ice-Rink-Resized-for-Web.jpg
END:VEVENT
END:VCALENDAR