BEGIN:VCALENDAR
VERSION:2.0
PRODID:-//Downtown in December - ECPv6.15.20//NONSGML v1.0//EN
CALSCALE:GREGORIAN
METHOD:PUBLISH
X-ORIGINAL-URL:https://downtownindecember.com
X-WR-CALDESC:Events for Downtown in December
REFRESH-INTERVAL;VALUE=DURATION:PT1H
X-Robots-Tag:noindex
X-PUBLISHED-TTL:PT1H
BEGIN:VTIMEZONE
TZID:UTC
BEGIN:STANDARD
TZOFFSETFROM:+0000
TZOFFSETTO:+0000
TZNAME:UTC
DTSTART:20180101T000000
END:STANDARD
END:VTIMEZONE
BEGIN:VEVENT
DTSTART;TZID=UTC:20191206T180000
DTEND;TZID=UTC:20191207T060000
DTSTAMP:20260422T131655
CREATED:20191105T212739Z
LAST-MODIFIED:20191206T231438Z
UID:401-1575655200-1575698400@downtownindecember.com
SUMMARY:Bricktown Canal Lights
DESCRIPTION:BRICKTOWN CANAL LIGHTS\nNOVEMBER 29 – JANUARY 11 \nThe Bricktown Canal Lights display will brighten your Bricktown experience from November 29 through January 11. As you stroll the canal\, enjoy the dining and shopping along downtown OKC’s premier entertainment district under the gorgeous holiday lights. The light display is free to the public. \nAlso\, check out the Free Water Taxi Rides on certain nights of the week throughout the season.
URL:https://downtownindecember.com/event/bricktown-canal-lights-8/
LOCATION:Bricktown\, 2 S Mickey Mantle Dr\, Oklahoma City\, OK\, 73104\, United States
CATEGORIES:Bricktown,Downtown,Downtown In December,Downtown Okc
ORGANIZER;CN="Downtown OKC Partnership":MAILTO:info@downtownokc.com
END:VEVENT
BEGIN:VEVENT
DTSTART;TZID=UTC:20191206T180000
DTEND;TZID=UTC:20191207T060000
DTSTAMP:20260422T131655
CREATED:20191105T212739Z
LAST-MODIFIED:20191206T231438Z
UID:400-1575655200-1575698400@downtownindecember.com
SUMMARY:Automobile Alley Light Display
DESCRIPTION:AUTOMOBILE ALLEY LIGHT DISPLAY \nNOVEMBER 23 – JANUARY 11\nSee the historic buildings of Automobile Alley in a whole new light during Automobile Alley’s Lights on Broadway. More than 180\,000 colorful LED lights will cover the buildings along eight blocks of North Broadway and district side streets making for a magical holiday wonderland. \nLocation\nNW 4th to 10th St. on Broadway Ave. \nHours of Operation\nNovember 23 – January 11\, dusk to dawn. Free of charge and open to the public. \nBe sure to visit the 4th annual Lights On Broadway event on November 23 from 4pm to 8pm as the lights will turn on!
URL:https://downtownindecember.com/event/automobile-alley-light-display-14/
LOCATION:Automobile Alley\, 1000 N Broadway Ave\, Oklahoma City\, OK\, 73102
CATEGORIES:Automobile Alley,Downtown,Downtown In December,Downtown Okc
ORGANIZER;CN="Downtown OKC Partnership":MAILTO:info@downtownokc.com
END:VEVENT
BEGIN:VEVENT
DTSTART;TZID=UTC:20191207T070000
DTEND;TZID=UTC:20191207T235900
DTSTAMP:20260422T131655
CREATED:20191101T232220Z
LAST-MODIFIED:20191207T231508Z
UID:227-1575702000-1575763140@downtownindecember.com
SUMMARY:Free Weekend Streetcar Rides
DESCRIPTION:Free Weekend Streetcar Rides\n \n\nEnjoy complimentary fares on the OKC Streetcars on the weekends beginning November 29 through January 5 in celebration of their one year anniversary. \nFREE RIDE DATES:\nNovember 22 – 24\nNovember 29 – December 1\nDecember 6 – 8\nDecember 13 – 15\nDecember 20 – 22\nDecember 27 – 29\nJanuary 3 – January 5 \nLearn more about EMBARK and the OKC Streetcar at okcstreetcar.com.
URL:https://downtownindecember.com/event/free-weekend-streetcar-rides-4/
CATEGORIES:Automobile Alley,Bricktown,Downtown In December,Downtown Okc,Midtown
END:VEVENT
BEGIN:VEVENT
DTSTART;TZID=UTC:20191207T080000
DTEND;TZID=UTC:20191207T110000
DTSTAMP:20260422T131655
CREATED:20191105T212739Z
LAST-MODIFIED:20191207T231509Z
UID:404-1575705600-1575716400@downtownindecember.com
SUMMARY:Little Willie’s Triple Dog Dare
DESCRIPTION:LITTLE WILLIE’S TRIPLE DOG DARE\nDECEMBER 7\, 8AM\nLEADERSHIP SQUARE \nREGISTER HERE: signmeup.com/site/online-event-registration/132292 \nThe 8th annual Little Willie’s Triple Dog Dare is a stair climbing event open to people of all ages. Keeping in line with the “Little Willie’s” spirit\, there’s even a Firefighters Division – racing in full gear of course! \nWhen: Saturday\, December 7\, 2019 | 8:00 a.m\nWhere: Leadership Square – 211 N. Robinson Ave.\nThis is a timed event by Enmotive. Athletes will start in a ‘Time Trial’ format with athletes being sent every 5 seconds. \nLittle Willie loves Oklahoma City and is committed to giving back to his community\, and proceeds will benefit The Homeless Alliance and Sunbeam Family Services. \nCourse Details:\nLeadership Square North Tower (22 floors)\nPLUS Oklahoma Tower (31 floors)\nPLUS Leadership Square South Tower (16 floors) \nAwards For:\n– Top Male & Female is each Age Group\n– Top Overall Male\n– Top Overall Female\n– Top Firefighter **must race in full gear**\n– Top Relay Team \nStay tuned on event updates on their social media pages:\nLittle Willie’s Facebook\nLittle Willie’s Instagram \nFor more info\, visit littlewilliestripledogdare.com.
URL:https://downtownindecember.com/event/little-willies-triple-dog-dare/
LOCATION:Leadership Square\, 211 N Robinson Ave\, Oklahoma City\, OK\, 73102\, United States
CATEGORIES:City Center,Downtown,Downtown In December,Downtown Okc
END:VEVENT
BEGIN:VEVENT
DTSTART;TZID=UTC:20191207T090000
DTEND;TZID=UTC:20191207T103000
DTSTAMP:20260422T131655
CREATED:20191205T231452Z
LAST-MODIFIED:20191207T231509Z
UID:618-1575709200-1575714600@downtownindecember.com
SUMMARY:Learn To Curl
DESCRIPTION:LEARN TO CURL\nNovember 23 & December 7; 21 & Jan 4; 18\, 9am-10:30am\nDevon Ice Rink at Myriad Gardens\nMembers $20; Nonmembers $25\nBring your family and friends and join Oklahoma Curling Club members as they walk through the etiquette and rules of curling. Dress warm\, wear rubber soled shoes\, and prepare for a fun morning on the ice. All other equipment will be provided. Book now before it sells out! \nRegister here.
URL:https://downtownindecember.com/event/learn-to-curl-2/
LOCATION:Myriad Botanical Gardens\, 301 W Reno Ave\, Oklahoma City\, OK\, 73103\, United States
CATEGORIES:Downtown,Downtown In December,Downtown Okc
END:VEVENT
BEGIN:VEVENT
DTSTART;TZID=UTC:20191207T100000
DTEND;TZID=UTC:20191207T160000
DTSTAMP:20260422T131655
CREATED:20191101T232220Z
LAST-MODIFIED:20191207T231509Z
UID:228-1575712800-1575734400@downtownindecember.com
SUMMARY:Devon’s Saturdays with Santa
DESCRIPTION:  \n \nSanta Claus is coming to town! Devon Energy has teamed up with Downtown in December and the Myriad Gardens to bring Saturdays with Santa to the Myriad Gardens this holiday season.  Santa Claus\, Mrs. Claus and several of his elves will be available for photos on Saturday\, December 7 and Sunday\, December 8\, from 10 a.m. to 4 p.m. each day. \nSaturdays with Santa will be part of a winter weekend spectacular that will include the entertainment and events catered to everyone including: \n\nHoliday games and crafts\nStorytelling and photos with Mrs. Claus\nVisits and photos with Santa\n“Polar Express” train ride around the Myriad Gardens\nSpecialty shops\nLive entertainment throughout the day\nDevon Ice Rink ($13 per person)\nFood trucks and market vendors with custom ornaments\, gifts and apparel unique to Oklahoma\n\nHours of Operation – 10:00 a.m. to 4:00 p.m.\nDecember 7\nDecember 8 \nVisits with Santa are available on a first-come\, first-served basis. Guests should register upon arrival and bring their own camera. \nDay of Activity Guide coming soon. These will be available on site during Saturdays with Santa. \nMyriad Botanical Gardens is located at 301 W. Reno Ave. in downtown Oklahoma City. Stay in tune with the latest updates by following the Saturdays with Santa Facebook page here!
URL:https://downtownindecember.com/event/devons-saturdays-with-santa/
LOCATION:Myriad Botanical Gardens\, 301 W Reno Ave\, Oklahoma City\, OK\, 73103\, United States
CATEGORIES:Downtown In December,Downtown Okc
END:VEVENT
BEGIN:VEVENT
DTSTART;TZID=UTC:20191207T100000
DTEND;TZID=UTC:20191207T210000
DTSTAMP:20260422T131655
CREATED:20191101T232220Z
LAST-MODIFIED:20191207T231509Z
UID:229-1575712800-1575752400@downtownindecember.com
SUMMARY:Holiday Pop-Up Shops
DESCRIPTION:HOLIDAY POP-UP SHOPS \nNOVEMBER 29 – DECEMBER 22\n399 NW 10TH STREET – MIDTOWN\nThe Holiday Pop-Up Shops are returning to Midtown in Downtown Oklahoma City for their 8th year in 2019! The Holiday Pop-Up Shops are open weekly from November 29th through December 22nd. Come back soon for a full roster of Shops. \nVisit over 30 Oklahoma-owned shops and an urban Christmas tree lot this holiday season between Thanksgiving and Christmas. Shops rotate weekly through a set of geodesic domes at NW 10th and Hudson\, next to Bleu Garten (399 NW 10th St.). The holiday shopping village is open each weekend\, starting Black Friday\, Thursday through Sunday to the public. Entry is free\, shopping is encouraged. \nBishop John Carrol School Christmas Tree Lot is open Thursday & Friday 5:30-9PM\, Saturday 10AM-9PM\, Sunday\, 10AM-6PM. \nHours & Dates of Operation\nNovember 29 – December 22\nThursdays – Saturdays: 10am to 9pm\nSundays: 10am to 6pm\nWEEK 1 – OPENING WEEKEND \nNovember 29 – December 1\nBONE Dog\, Green Bambino\, Salt & Water\, The Okay See\, Out On a Limb\, The Painted Door\, Jerky.com\, Nhu Avenue\nWEEK 2 \nDecember 5 – 8\nBlue 7\, Commonplace Books\, Harper & Grey House\, OKCollective\, Cargo Room\, Local Lather\, Heenan’s Home Furnishings\, Craig Proper\, Jake Fowler Design\, Little Arc\nWEEK 3 \nDecember 12 – 15\nA Date with Iris\, Blush\, Tulips\, udånder\, The STEMcell Science Shop\, Woodsman Trading\, Mode\nWEEK 4 \nDecember 19 – 22 \nShop Good\, Apple Tree Chocolate\, Trade Men’s Wares\, Coki Bay\, Siempre Viva\, PLENTY Mercantile\, Chirps and Cheers\, Barkeep\, The Black Scintilla\nFor more information\, including the full schedule for the list of shops\, visit okcpopups.com.
URL:https://downtownindecember.com/event/holiday-pop-up-shops-6/
LOCATION:Midtown
CATEGORIES:Downtown,Downtown In December,Downtown Okc,Midtown
END:VEVENT
BEGIN:VEVENT
DTSTART;TZID=UTC:20191207T100000
DTEND;TZID=UTC:20191207T210000
DTSTAMP:20260422T131655
CREATED:20191105T212740Z
LAST-MODIFIED:20191105T212911Z
UID:405-1575712800-1575752400@downtownindecember.com
SUMMARY:Holiday Pop-Up Shops
DESCRIPTION:HOLIDAY POP-UP SHOPS \nNOVEMBER 29 – DECEMBER 22\n399 NW 10TH STREET – MIDTOWN\nThe Holiday Pop-Up Shops are returning to Midtown in Downtown Oklahoma City for their 8th year in 2019! The Holiday Pop-Up Shops are open weekly from November 29th through December 22nd. Come back soon for a full roster of Shops. \nVisit over 30 Oklahoma-owned shops and an urban Christmas tree lot this holiday season between Thanksgiving and Christmas. Shops rotate weekly through a set of geodesic domes at NW 10th and Hudson\, next to Bleu Garten (399 NW 10th St.). The holiday shopping village is open each weekend\, starting Black Friday\, Thursday through Sunday to the public. Entry is free\, shopping is encouraged. \nBishop John Carrol School Christmas Tree Lot is open Thursday & Friday 5:30-9PM\, Saturday 10AM-9PM\, Sunday\, 10AM-6PM. \nHours & Dates of Operation\nNovember 29 – December 22\nThursdays – Saturdays: 10am to 9pm\nSundays: 10am to 6pm\nWEEK 1 – OPENING WEEKEND \nNovember 29 – December 1\nBONE Dog\, Green Bambino\, Salt & Water\, The Okay See\, Out On a Limb\, The Painted Door\, Jerky.com\, Nhu Avenue\nWEEK 2 \nDecember 5 – 8\nBlue 7\, Commonplace Books\, Harper & Grey House\, OKCollective\, Cargo Room\, Local Lather\, Heenan’s Home Furnishings\, Craig Proper\, Jake Fowler Design\, Little Arc\nWEEK 3 \nDecember 12 – 15\nA Date with Iris\, Blush\, Tulips\, udånder\, The STEMcell Science Shop\, Woodsman Trading\, Mode\nWEEK 4 \nDecember 19 – 22 \nShop Good\, Apple Tree Chocolate\, Trade Men’s Wares\, Coki Bay\, Siempre Viva\, PLENTY Mercantile\, Chirps and Cheers\, Barkeep\, The Black Scintilla\nFor more information\, including the full schedule for the list of shops\, visit okcpopups.com.
URL:https://downtownindecember.com/event/holiday-pop-up-shops-21/
LOCATION:Holiday Pop-Ups in Midtown\, 399 NW 10th Street\, Oklahoma City\, OK\, 73103\, United States
CATEGORIES:Downtown,Downtown In December,Downtown Okc,Midtown
END:VEVENT
BEGIN:VEVENT
DTSTART;TZID=UTC:20191207T110000
DTEND;TZID=UTC:20191207T230000
DTSTAMP:20260422T131655
CREATED:20191101T232220Z
LAST-MODIFIED:20191207T231509Z
UID:230-1575716400-1575759600@downtownindecember.com
SUMMARY:Devon Ice Rink
DESCRIPTION:The Devon Ice Rink returns for its 9th season in the Myriad Botanical Gardens in 2019. Join us for another great winter of outdoor ice skating at Downtown in December’s premier attraction. Open 7 days a week from beginning November 8\, the Devon Ice Rink hosts daily public skating\, private parties\, and special events all winter long. The ice rink will be open through February 2. \nRates:\n$13 per person for all ages (includes skates). $8 for guests who bring their own skates. Myriad Garden Members skate for $7 (includes skates). Group rate (10 or more guests) is $9 and includes skates. Advanced reservations required for groups. Private parties available. \nRegular Hours: November 8 – February 2\, 2020\nMonday – Thursday\, 3pm – 9pm\nFriday\, 3pm – 11pm\nSaturday\, 11am – 11pm\nSunday\, 11am – 7pm \nLearn to Curl – $20 for Myriad Gardens Members\, $25 Non-members \n\nNovember 23\nDecember 7\nDecember 21\nJanuary 4\nJanuary 18\n\nHoliday Hours:\nThanksgiving \n\nNovember 28\, 3pm – 9pm\nNovember 29\, 11am – 11pm\n\nChristmas Break \n\nDecember 16 –  January 3\, 11am – 11pm\nSundays\, 11am – 7pm\n\nChristmas Eve \n\nDecember 24\, 12pm – 6pm\n\nChristmas Day \n\nDecember 25\, 12pm – 6pm\n\nMartin Luther King\, Jr. Day \n\nJanuary 20\, 11am – 9pm
URL:https://downtownindecember.com/event/devon-ice-rink-27/
LOCATION:Myriad Botanical Gardens\, 301 W Reno Ave\, Oklahoma City\, OK\, 73103\, United States
CATEGORIES:City Center,Downtown,Downtown In December,Seasonal & Holiday,Skating
ATTACH;FMTTYPE=image/jpeg:https://downtownindecember.com/wp-content/uploads/2019/11/Ice-Rink-Resized-for-Web.jpg
END:VEVENT
BEGIN:VEVENT
DTSTART;TZID=UTC:20191207T130000
DTEND;TZID=UTC:20191207T160000
DTSTAMP:20260422T131655
CREATED:20191105T212740Z
LAST-MODIFIED:20191207T231509Z
UID:406-1575723600-1575734400@downtownindecember.com
SUMMARY:Drop-In Art at OKCMOA
DESCRIPTION:DROP-IN ART \nJoin the Museum for Winter Printing this December during Drop-In Art on the first and third Saturday of the month! Visit their special exhibition Renewing the American Spirit: The Art of the Great Depression as well as Postwar Abstraction: Variations to find inspiration for each December program. They will focus on works of art such as Aaron by Thomas Hart Benton and Tea Leaves by Suzanne McClelland as you create your own prints in the studio. \nDrop-in Art\nDecember 7\, 1-4 pm\nArt-Making Project: Join the Museum as for Drop-In Art as we create printed cards and envelopes using Styrofoam printing sheets and colorful printing inks. \nDrop-in Art\nDecember 21\, 1-4 pm\nArt-Making Project: Visitors will utilize a variety of materials such as foam stickers and printing inks to create one-of-a-kind collagraph prints in the studio. \nHours of Operation\nWednesday-Saturday: 10 am-5 pm\nSunday: noon-5 pm\nClosed: Mondays\, Tuesday\, Thanksgiving Day\, Christmas Day \nFor information about the Oklahoma City Museum of Art\, visit OKCMOA.com.
URL:https://downtownindecember.com/event/drop-in-art-at-okcmoa/
LOCATION:Oklahoma City Museum of Art\, 415 Couch Dr.\, Oklahoma City\, OK\, 73102\, United States
CATEGORIES:Arts District,Downtown,Downtown In December,Downtown Okc
END:VEVENT
BEGIN:VEVENT
DTSTART;TZID=UTC:20191207T140000
DTEND;TZID=UTC:20191207T160000
DTSTAMP:20260422T131655
CREATED:20191101T232220Z
LAST-MODIFIED:20191207T231510Z
UID:231-1575727200-1575734400@downtownindecember.com
SUMMARY:OKC Philharmonic’s The Christmas Show
DESCRIPTION:The Christmas Show featuring Max von Essen \nOklahoma City Philharmonic\nat the Civic Center Music Hall \nStart the Christmas Season off with this sparkling OKC family tradition. Join the OKCPHIL\, Santa\, the POPS Chorale and the Mistletoes with Broadway star Max von Essen in this musical theater style production sure to warm your heart\, lift your spirits and create memories to last a lifetime. Don’t miss the tap dancing Santas! Come early to slow down and take a FREE picture with Santa in front of the 30 foot Christmas Tree\, while listening to the festive hand bells in the lobby. For more information and to purchase tickets visit okcphil.org or call (405) 842-5387. \nOKC Phil\n(405) 842-5387 \nCivic Center\n(405) 297-2584
URL:https://downtownindecember.com/event/okc-philharmonics-the-christmas-show-3/
LOCATION:Civic Center Music Hall\, 201 N Walker Ave\, Oklahoma City\, OK\, 73102\, United States
CATEGORIES:Arts District,Downtown In December,Downtown Okc
END:VEVENT
BEGIN:VEVENT
DTSTART;TZID=UTC:20191207T140000
DTEND;TZID=UTC:20191207T160000
DTSTAMP:20260422T131655
CREATED:20191105T212740Z
LAST-MODIFIED:20191207T231509Z
UID:407-1575727200-1575734400@downtownindecember.com
SUMMARY:Lyric’s A Christmas Carol
DESCRIPTION:A CHRISTMAS CAROL \nNOVEMBER 29 – DECEMBER 24 \nLYRIC THEATRE\n\nIn its ninth year running\, the spectacular Oklahoma holiday tradition returns with Lyric’s production of Charles Dickens’ classic\, A Christmas Carol\, sponsored by Devon Energy. Go on a magical journey with Ebenezer Scrooge and the ghosts of Christmas Past\, Present\, and Future. Featuring stunning sets\, sparkling costumes and a cast of beloved characters\, Lyric’s A Christmas Carol will get your entire family in the holiday spirit! Enjoy the show at Lyric’s Plaza Theatre\, 1725 NW 16th Street.\nShow Dates and Times: \n\nFriday\, November 29th\, 2019 at 8:00 PM\nSaturday\, November 30th\, 2019 at 2:00 PM\nSaturday\, November 30th\, 2019 at 8:00 PM\nSunday\, December 1st\, 2019 at 2:00 PM\nSunday\, December 1st\, 2019 at 7:00 PM\nWednesday\, December 4th\, 2019 at 7:30 PM\nThursday\, December 5th\, 2019 at 7:30 PM\nFriday\, December 6th\, 2019 at 8:00 PM\nSaturday\, December 7th\, 2019 at 2:00 PM\nSaturday\, December 7th\, 2019 at 8:00 PM\nSunday\, December 8th\, 2019 at 2:00 PM- American Sign Language Interpreted\nSunday\, December 8th\, 2019 at 7:00 PM\nWednesday\, December 11th\, 2019 at 7:30 PM\nThursday\, December 12th\, 2019 at 7:30 PM\nFriday\, December 13th\, 2019 at 8:00 PM\nSaturday\, December 14th\, 2019 at 2:00 PM\nSaturday\, December 14th\, 2019 at 8:00 PM\nSunday\, December 15th\, 2019 at 2:00 PM\nSunday\, December 15th\, 2019 at 7:00 PM\nTuesday\, December 17th\, 2019 at 7:30 PM\nWednesday\, December 18th\, 2019 at 7:30 PM\nThursday\, December 19th\, 2019 at 7:30 PM\nFriday\, December 20th\, 2019 at 8:00 PM\nSaturday\, December 21st\, 2019 at 2:00 PM\nSaturday\, December 21st\, 2019 at 8:00 PM\nSunday\, December 22nd\, 2019 at 2:00 PM\nSunday\, December 22nd\, 2019 at 7:00 PM\nMonday\, December 23rd\, 2019 at 7:30 PM\nTuesday\, December 24th\, 2019 at 2:00 PM\n\nTo purchase tickets or for more information\, visit lyrictheatreokc.com or call (405) 524-9312.
URL:https://downtownindecember.com/event/lyrics-a-christmas-carol-9/
LOCATION:Lyric Theatre of Oklahoma\, 1727 NW 16th Street\, Oklahoma City\, OK\, 73106\, United States
CATEGORIES:Arts District,Downtown,Downtown In December,Downtown Okc
END:VEVENT
BEGIN:VEVENT
DTSTART;TZID=UTC:20191207T180000
DTEND;TZID=UTC:20191207T210000
DTSTAMP:20260422T131655
CREATED:20191101T232220Z
LAST-MODIFIED:20191207T231510Z
UID:232-1575741600-1575752400@downtownindecember.com
SUMMARY:Free Holiday Water Taxi Rides
DESCRIPTION:FREE HOLIDAY WATER TAXI RIDES\nTHURSDAYS – SUNDAYS / 6PM-9PM\nNOVEMBER 29 – DECEMBER 29\nAll aboard for an adventure cruise on a Bricktown Water Taxi! On designated evenings throughout November and December\, all ages are welcome to enjoy a fun-filled float down the beautifully-adorned Bricktown canal free of charge\, courtesy of the Downtown Business Improvement District. \nThe narrated and holiday-themed Free Holiday Water Taxi Rides will begin at the main Water Taxi dock on canal level\, below the entrance to Mickey Mantle’s Steakhouse and Brickopolis. The tours will run on a continuous loop through Bricktown\, turning around near the Residence Inn by Marriott (in Lower Bricktown)\, and returning to the loading dock. All of the canal’s holiday decorations will be visible on the tour. Each round trip is estimated to take 20-30 minutes. \nShould an event such as a heavy rainfall\, the freezing-over of the canal\, or other extreme circumstances result in a situation where it is deemed impossible or unwise to provide services\, the Free Holiday Water Taxi Rides may be canceled and/or rescheduled. \nDates and Hours of Operation:\nNovember 29 – December 29\nThursdays – Sundays: 6:00 p.m. – 9:00 p.m.\n(Closed Christmas Day & New Years Day) \nAdmission:\nFree and open to the public. Please call (405) 234-TAXI for more information.
URL:https://downtownindecember.com/event/free-holiday-water-taxi-rides-6/
LOCATION:Bricktown Water Taxi\, 111 S. Mickey Mantle Drive\, Oklahoma City\, OK\, 73104\, United States
CATEGORIES:Bricktown,Downtown In December,Downtown Okc
END:VEVENT
BEGIN:VEVENT
DTSTART;TZID=UTC:20191207T180000
DTEND;TZID=UTC:20191207T220000
DTSTAMP:20260422T131655
CREATED:20191206T231440Z
LAST-MODIFIED:20191207T231510Z
UID:620-1575741600-1575756000@downtownindecember.com
SUMMARY:Illuminations: Starry\, Starry Night presented by OG&E
DESCRIPTION:Illuminations: Starry\, Starry Night presented by OG&E\nNovember 22\, 2019 – January 5\, 2020\nCrystal Bridge Conservatory\nWednesdays – Fridays\, Sundays 6pm-9pm; Saturdays\, 6pm-10pm\nMembers $6; Nonmembers $8 \nSponsored by Devon Energy\, Downtown OKC\, Delta Dental\, Absentee Shawnee\, E.L. and Thelma Gaylord Foundation and Tinker Federal Credit Union \nMyriad Botanical Gardens is a popular destination to enjoy all that the holidays have to offer\, and they continuously work to ensure downtown Oklahoma City is a vibrant and active place during the winter holiday season. Join us for the second iteration of Illuminations\, an immersive\, bespoke light installation that combines light and sound inside the Crystal Bridge Tropical Conservatory. The entire Bridge serves as a canvas for moving lights and music that invite visitors inside for a curated and creative celebration of the holidays\, the Gardens and especially the rare and beautiful plants in the conservatory. A special featured includes interactive spinning sculptures. Illuminations: Starry\, Starry Night is sure to become a must-see event. \nHoliday Hours: Closed Christmas Eve and Christmas Day\n$6 for members; $8 for nonmembers; Children 2 and under are free \nMore information here.
URL:https://downtownindecember.com/event/illuminations-starry-starry-night-presented-by-oge-9/
LOCATION:Myriad Botanical Gardens\, 301 W Reno Ave\, Oklahoma City\, OK\, 73103\, United States
CATEGORIES:City Center,Downtown,Downtown In December,Downtown Okc
END:VEVENT
BEGIN:VEVENT
DTSTART;TZID=UTC:20191207T180000
DTEND;TZID=UTC:20191208T060000
DTSTAMP:20260422T131655
CREATED:20191105T212740Z
LAST-MODIFIED:20191207T231510Z
UID:408-1575741600-1575784800@downtownindecember.com
SUMMARY:Automobile Alley Light Display
DESCRIPTION:AUTOMOBILE ALLEY LIGHT DISPLAY \nNOVEMBER 23 – JANUARY 11\nSee the historic buildings of Automobile Alley in a whole new light during Automobile Alley’s Lights on Broadway. More than 180\,000 colorful LED lights will cover the buildings along eight blocks of North Broadway and district side streets making for a magical holiday wonderland. \nLocation\nNW 4th to 10th St. on Broadway Ave. \nHours of Operation\nNovember 23 – January 11\, dusk to dawn. Free of charge and open to the public. \nBe sure to visit the 4th annual Lights On Broadway event on November 23 from 4pm to 8pm as the lights will turn on!
URL:https://downtownindecember.com/event/automobile-alley-light-display-15/
LOCATION:Automobile Alley\, 1000 N Broadway Ave\, Oklahoma City\, OK\, 73102
CATEGORIES:Automobile Alley,Downtown,Downtown In December,Downtown Okc
ORGANIZER;CN="Downtown OKC Partnership":MAILTO:info@downtownokc.com
END:VEVENT
BEGIN:VEVENT
DTSTART;TZID=UTC:20191207T180000
DTEND;TZID=UTC:20191208T060000
DTSTAMP:20260422T131655
CREATED:20191105T212740Z
LAST-MODIFIED:20191207T231510Z
UID:409-1575741600-1575784800@downtownindecember.com
SUMMARY:Bricktown Canal Lights
DESCRIPTION:BRICKTOWN CANAL LIGHTS\nNOVEMBER 29 – JANUARY 11 \nThe Bricktown Canal Lights display will brighten your Bricktown experience from November 29 through January 11. As you stroll the canal\, enjoy the dining and shopping along downtown OKC’s premier entertainment district under the gorgeous holiday lights. The light display is free to the public. \nAlso\, check out the Free Water Taxi Rides on certain nights of the week throughout the season.
URL:https://downtownindecember.com/event/bricktown-canal-lights-9/
LOCATION:Bricktown\, 2 S Mickey Mantle Dr\, Oklahoma City\, OK\, 73104\, United States
CATEGORIES:Bricktown,Downtown,Downtown In December,Downtown Okc
ORGANIZER;CN="Downtown OKC Partnership":MAILTO:info@downtownokc.com
END:VEVENT
BEGIN:VEVENT
DTSTART;TZID=UTC:20191207T200000
DTEND;TZID=UTC:20191207T220000
DTSTAMP:20260422T131655
CREATED:20191101T232221Z
LAST-MODIFIED:20191207T231511Z
UID:233-1575748800-1575756000@downtownindecember.com
SUMMARY:OKC Philharmonic’s The Christmas Show
DESCRIPTION:The Christmas Show featuring Max von Essen \nOklahoma City Philharmonic\nat the Civic Center Music Hall \nStart the Christmas Season off with this sparkling OKC family tradition. Join the OKCPHIL\, Santa\, the POPS Chorale and the Mistletoes with Broadway star Max von Essen in this musical theater style production sure to warm your heart\, lift your spirits and create memories to last a lifetime. Don’t miss the tap dancing Santas! Come early to slow down and take a FREE picture with Santa in front of the 30 foot Christmas Tree\, while listening to the festive hand bells in the lobby. For more information and to purchase tickets visit okcphil.org or call (405) 842-5387. \nOKC Phil\n(405) 842-5387 \nCivic Center\n(405) 297-2584
URL:https://downtownindecember.com/event/okc-philharmonics-the-christmas-show-4/
LOCATION:Civic Center Music Hall\, 201 N Walker Ave\, Oklahoma City\, OK\, 73102\, United States
CATEGORIES:Arts District,Downtown In December,Downtown Okc
END:VEVENT
BEGIN:VEVENT
DTSTART;TZID=UTC:20191207T200000
DTEND;TZID=UTC:20191207T220000
DTSTAMP:20260422T131655
CREATED:20191105T212741Z
LAST-MODIFIED:20191207T231510Z
UID:410-1575748800-1575756000@downtownindecember.com
SUMMARY:Lyric’s A Christmas Carol
DESCRIPTION:A CHRISTMAS CAROL \nNOVEMBER 29 – DECEMBER 24 \nLYRIC THEATRE\n\nIn its ninth year running\, the spectacular Oklahoma holiday tradition returns with Lyric’s production of Charles Dickens’ classic\, A Christmas Carol\, sponsored by Devon Energy. Go on a magical journey with Ebenezer Scrooge and the ghosts of Christmas Past\, Present\, and Future. Featuring stunning sets\, sparkling costumes and a cast of beloved characters\, Lyric’s A Christmas Carol will get your entire family in the holiday spirit! Enjoy the show at Lyric’s Plaza Theatre\, 1725 NW 16th Street.\nShow Dates and Times: \n\nFriday\, November 29th\, 2019 at 8:00 PM\nSaturday\, November 30th\, 2019 at 2:00 PM\nSaturday\, November 30th\, 2019 at 8:00 PM\nSunday\, December 1st\, 2019 at 2:00 PM\nSunday\, December 1st\, 2019 at 7:00 PM\nWednesday\, December 4th\, 2019 at 7:30 PM\nThursday\, December 5th\, 2019 at 7:30 PM\nFriday\, December 6th\, 2019 at 8:00 PM\nSaturday\, December 7th\, 2019 at 2:00 PM\nSaturday\, December 7th\, 2019 at 8:00 PM\nSunday\, December 8th\, 2019 at 2:00 PM- American Sign Language Interpreted\nSunday\, December 8th\, 2019 at 7:00 PM\nWednesday\, December 11th\, 2019 at 7:30 PM\nThursday\, December 12th\, 2019 at 7:30 PM\nFriday\, December 13th\, 2019 at 8:00 PM\nSaturday\, December 14th\, 2019 at 2:00 PM\nSaturday\, December 14th\, 2019 at 8:00 PM\nSunday\, December 15th\, 2019 at 2:00 PM\nSunday\, December 15th\, 2019 at 7:00 PM\nTuesday\, December 17th\, 2019 at 7:30 PM\nWednesday\, December 18th\, 2019 at 7:30 PM\nThursday\, December 19th\, 2019 at 7:30 PM\nFriday\, December 20th\, 2019 at 8:00 PM\nSaturday\, December 21st\, 2019 at 2:00 PM\nSaturday\, December 21st\, 2019 at 8:00 PM\nSunday\, December 22nd\, 2019 at 2:00 PM\nSunday\, December 22nd\, 2019 at 7:00 PM\nMonday\, December 23rd\, 2019 at 7:30 PM\nTuesday\, December 24th\, 2019 at 2:00 PM\n\nTo purchase tickets or for more information\, visit lyrictheatreokc.com or call (405) 524-9312.
URL:https://downtownindecember.com/event/lyrics-a-christmas-carol-10/
LOCATION:Lyric Theatre of Oklahoma\, 1727 NW 16th Street\, Oklahoma City\, OK\, 73106\, United States
CATEGORIES:Arts District,Downtown,Downtown In December,Downtown Okc
END:VEVENT
END:VCALENDAR