BEGIN:VCALENDAR
VERSION:2.0
PRODID:-//Downtown in December - ECPv6.15.20//NONSGML v1.0//EN
CALSCALE:GREGORIAN
METHOD:PUBLISH
X-WR-CALNAME:Downtown in December
X-ORIGINAL-URL:https://downtownindecember.com
X-WR-CALDESC:Events for Downtown in December
REFRESH-INTERVAL;VALUE=DURATION:PT1H
X-Robots-Tag:noindex
X-PUBLISHED-TTL:PT1H
BEGIN:VTIMEZONE
TZID:UTC
BEGIN:STANDARD
TZOFFSETFROM:+0000
TZOFFSETTO:+0000
TZNAME:UTC
DTSTART:20180101T000000
END:STANDARD
END:VTIMEZONE
BEGIN:VEVENT
DTSTART;TZID=UTC:20191201T180000
DTEND;TZID=UTC:20191202T060000
DTSTAMP:20260422T131500
CREATED:20191105T212508Z
LAST-MODIFIED:20191201T224447Z
UID:382-1575223200-1575266400@downtownindecember.com
SUMMARY:Automobile Alley Light Display
DESCRIPTION:AUTOMOBILE ALLEY LIGHT DISPLAY \nNOVEMBER 23 – JANUARY 11\nSee the historic buildings of Automobile Alley in a whole new light during Automobile Alley’s Lights on Broadway. More than 180\,000 colorful LED lights will cover the buildings along eight blocks of North Broadway and district side streets making for a magical holiday wonderland. \nLocation\nNW 4th to 10th St. on Broadway Ave. \nHours of Operation\nNovember 23 – January 11\, dusk to dawn. Free of charge and open to the public. \nBe sure to visit the 4th annual Lights On Broadway event on November 23 from 4pm to 8pm as the lights will turn on!
URL:https://downtownindecember.com/event/automobile-alley-light-display-9/
LOCATION:Automobile Alley\, 1000 N Broadway Ave\, Oklahoma City\, OK\, 73102
CATEGORIES:Automobile Alley,Downtown,Downtown In December,Downtown Okc
ORGANIZER;CN="Downtown OKC Partnership":MAILTO:info@downtownokc.com
END:VEVENT
BEGIN:VEVENT
DTSTART;TZID=UTC:20191201T180000
DTEND;TZID=UTC:20191202T060000
DTSTAMP:20260422T131500
CREATED:20191105T212508Z
LAST-MODIFIED:20191201T224447Z
UID:383-1575223200-1575266400@downtownindecember.com
SUMMARY:Bricktown Canal Lights
DESCRIPTION:BRICKTOWN CANAL LIGHTS\nNOVEMBER 29 – JANUARY 11 \nThe Bricktown Canal Lights display will brighten your Bricktown experience from November 29 through January 11. As you stroll the canal\, enjoy the dining and shopping along downtown OKC’s premier entertainment district under the gorgeous holiday lights. The light display is free to the public. \nAlso\, check out the Free Water Taxi Rides on certain nights of the week throughout the season.
URL:https://downtownindecember.com/event/bricktown-canal-lights-3/
LOCATION:Bricktown\, 2 S Mickey Mantle Dr\, Oklahoma City\, OK\, 73104\, United States
CATEGORIES:Bricktown,Downtown,Downtown In December,Downtown Okc
ORGANIZER;CN="Downtown OKC Partnership":MAILTO:info@downtownokc.com
END:VEVENT
BEGIN:VEVENT
DTSTART;TZID=UTC:20191202T150000
DTEND;TZID=UTC:20191202T210000
DTSTAMP:20260422T131500
CREATED:20191101T232218Z
LAST-MODIFIED:20191202T224527Z
UID:214-1575298800-1575320400@downtownindecember.com
SUMMARY:Devon Ice Rink
DESCRIPTION:The Devon Ice Rink returns for its 9th season in the Myriad Botanical Gardens in 2019. Join us for another great winter of outdoor ice skating at Downtown in December’s premier attraction. Open 7 days a week from beginning November 8\, the Devon Ice Rink hosts daily public skating\, private parties\, and special events all winter long. The ice rink will be open through February 2. \nRates:\n$13 per person for all ages (includes skates). $8 for guests who bring their own skates. Myriad Garden Members skate for $7 (includes skates). Group rate (10 or more guests) is $9 and includes skates. Advanced reservations required for groups. Private parties available. \nRegular Hours: November 8 – February 2\, 2020\nMonday – Thursday\, 3pm – 9pm\nFriday\, 3pm – 11pm\nSaturday\, 11am – 11pm\nSunday\, 11am – 7pm \nLearn to Curl – $20 for Myriad Gardens Members\, $25 Non-members \n\nNovember 23\nDecember 7\nDecember 21\nJanuary 4\nJanuary 18\n\nHoliday Hours:\nThanksgiving \n\nNovember 28\, 3pm – 9pm\nNovember 29\, 11am – 11pm\n\nChristmas Break \n\nDecember 16 –  January 3\, 11am – 11pm\nSundays\, 11am – 7pm\n\nChristmas Eve \n\nDecember 24\, 12pm – 6pm\n\nChristmas Day \n\nDecember 25\, 12pm – 6pm\n\nMartin Luther King\, Jr. Day \n\nJanuary 20\, 11am – 9pm
URL:https://downtownindecember.com/event/devon-ice-rink-23/
LOCATION:Myriad Botanical Gardens\, 301 W Reno Ave\, Oklahoma City\, OK\, 73103\, United States
CATEGORIES:City Center,Downtown,Downtown In December,Seasonal & Holiday,Skating
ATTACH;FMTTYPE=image/jpeg:https://downtownindecember.com/wp-content/uploads/2019/11/Ice-Rink-Resized-for-Web.jpg
END:VEVENT
BEGIN:VEVENT
DTSTART;TZID=UTC:20191202T180000
DTEND;TZID=UTC:20191203T060000
DTSTAMP:20260422T131500
CREATED:20191105T212509Z
LAST-MODIFIED:20191202T224527Z
UID:385-1575309600-1575352800@downtownindecember.com
SUMMARY:Automobile Alley Light Display
DESCRIPTION:AUTOMOBILE ALLEY LIGHT DISPLAY \nNOVEMBER 23 – JANUARY 11\nSee the historic buildings of Automobile Alley in a whole new light during Automobile Alley’s Lights on Broadway. More than 180\,000 colorful LED lights will cover the buildings along eight blocks of North Broadway and district side streets making for a magical holiday wonderland. \nLocation\nNW 4th to 10th St. on Broadway Ave. \nHours of Operation\nNovember 23 – January 11\, dusk to dawn. Free of charge and open to the public. \nBe sure to visit the 4th annual Lights On Broadway event on November 23 from 4pm to 8pm as the lights will turn on!
URL:https://downtownindecember.com/event/automobile-alley-light-display-10/
LOCATION:Automobile Alley\, 1000 N Broadway Ave\, Oklahoma City\, OK\, 73102
CATEGORIES:Automobile Alley,Downtown,Downtown In December,Downtown Okc
ORGANIZER;CN="Downtown OKC Partnership":MAILTO:info@downtownokc.com
END:VEVENT
BEGIN:VEVENT
DTSTART;TZID=UTC:20191202T180000
DTEND;TZID=UTC:20191203T060000
DTSTAMP:20260422T131500
CREATED:20191105T212509Z
LAST-MODIFIED:20191202T224527Z
UID:386-1575309600-1575352800@downtownindecember.com
SUMMARY:Bricktown Canal Lights
DESCRIPTION:BRICKTOWN CANAL LIGHTS\nNOVEMBER 29 – JANUARY 11 \nThe Bricktown Canal Lights display will brighten your Bricktown experience from November 29 through January 11. As you stroll the canal\, enjoy the dining and shopping along downtown OKC’s premier entertainment district under the gorgeous holiday lights. The light display is free to the public. \nAlso\, check out the Free Water Taxi Rides on certain nights of the week throughout the season.
URL:https://downtownindecember.com/event/bricktown-canal-lights-4/
LOCATION:Bricktown\, 2 S Mickey Mantle Dr\, Oklahoma City\, OK\, 73104\, United States
CATEGORIES:Bricktown,Downtown,Downtown In December,Downtown Okc
ORGANIZER;CN="Downtown OKC Partnership":MAILTO:info@downtownokc.com
END:VEVENT
END:VCALENDAR